BEGIN:VCALENDAR
VERSION:2.0
PRODID:-//Voice of the Highway - ECPv4.9.10//NONSGML v1.0//EN
CALSCALE:GREGORIAN
METHOD:PUBLISH
X-WR-CALNAME:Voice of the Highway
X-ORIGINAL-URL:https://voiceofthehwy.org
X-WR-CALDESC:Events for Voice of the Highway
BEGIN:VTIMEZONE
TZID:UTC
BEGIN:STANDARD
TZOFFSETFROM:+0000
TZOFFSETTO:+0000
TZNAME:UTC
DTSTART:20190101T000000
END:STANDARD
END:VTIMEZONE
BEGIN:VEVENT
DTSTART;VALUE=DATE:20191201
DTEND;VALUE=DATE:20200101
DTSTAMP:20260423T001158
CREATED:20191027T212741Z
LAST-MODIFIED:20191027T212741Z
UID:367-1575158400-1577836799@voiceofthehwy.org
SUMMARY:Safe Toys & Gifts Month
DESCRIPTION:Keep Holidays Bright by Making Safe Toys and Gifts a\nPriority When Shopping This Year\n\nMore Than 265\,000 Were Treated in U.S. Hospital Emergency Departments \nin 2012 from Toy-related Injuries-\nAs widely reported\, an increasing number of major retailers across the country opened on Thanksgiving in order to give shoppers a jump on their holiday shopping. Combined with the popularity of online shopping\, consumers can complete their lists earlier than ever and take advantage of discounts and bargains.  But sometimes\, the best deal may not be the safest.  Prevent Blindness Ohiowants everyone to make sure that all gifts purchased\, especially for children\, are safe. \n
URL:https://voiceofthehwy.org/?tribe_events=safe-toys-gifts-month
ATTACH;FMTTYPE=image/jpeg:https://voiceofthehwy.org/wp-content/uploads/2019/10/download.jpg
END:VEVENT
END:VCALENDAR