BEGIN:VCALENDAR
VERSION:2.0
PRODID:-//Voice of the Highway - ECPv4.9.10//NONSGML v1.0//EN
CALSCALE:GREGORIAN
METHOD:PUBLISH
X-WR-CALNAME:Voice of the Highway
X-ORIGINAL-URL:https://voiceofthehwy.org
X-WR-CALDESC:Events for Voice of the Highway
BEGIN:VTIMEZONE
TZID:UTC
BEGIN:STANDARD
TZOFFSETFROM:+0000
TZOFFSETTO:+0000
TZNAME:UTC
DTSTART:20190101T000000
END:STANDARD
END:VTIMEZONE
BEGIN:VEVENT
DTSTART;VALUE=DATE:20191012
DTEND;VALUE=DATE:20191013
DTSTAMP:20260423T052941
CREATED:20191006T184736Z
LAST-MODIFIED:20191006T184736Z
UID:154-1570838400-1570924799@voiceofthehwy.org
SUMMARY:National Farmers Day
DESCRIPTION:
URL:https://voiceofthehwy.org/?tribe_events=national-farmers-day
END:VEVENT
END:VCALENDAR